BEGIN:VCALENDAR
VERSION:2.0
PRODID:Events Booking
BEGIN:VEVENT
UID:69ea5f49c47da
SUMMARY:Dr. Melvin J. Rivers - The Emotionally\, Relationally\, and Sociall
 y Intelligent Project Manager (Live Online)
DESCRIPTION:
 Presentation Title
 The Emotionally\, Relationally\, and So
 cially Intelligent Project Manager
 Presentation Speaker
 Dr. Melvin J. 
 Rivers\, D.B.A.\, CDBAP®
 Presentation Abstract
 There are many interpe
 rsonal skills that every effective project manager needs to be successful\
 , and these have not changed over the years. What has changed is the pract
 ice of combining these important interpersonal skills to help project mana
 gers become even more effective.
 In this presentation\, Dr. Melvin J. Ri
 vers will discuss the value and impact of emotional\, relational\, and soc
 ial intelligence on the project team. The ability to foster team collabora
 tion\, shared values\, and a commitment to satisfying the customer is sign
 ificantly dependent on the project manager’s ability to lead effectively
  using these skills. Learning Outcomes include:• Emotional Intelligence 
 Project Leader Characteristics• Relational Intelligence Project Leader C
 haracteristics• Social Intelligence Project Leader Characteristics• Co
 mbining these characteristics to ensure project success
 Speaker Bio
 Dr
 . Melvin J. Rivers has a Doctorate of Business Administration (D.B.A.) and
  is the President/CEO of Phronesis Consulting\, LLC\, a firm that provides
  effective solutions to complex business and management problems. With ove
 r 27 years of experience in consulting\, speaking\, and authoring\, he has
  the expertise\, and research skills to help organizations achieve maximum
  operational efficiency and profitability.
 Dr. Rivers is also the Presid
 ent of The National D.B.A. Society\, where he advocates for the value and 
 relevance of the Doctor of Business Administration degree and fosters inte
 rdisciplinary collaboration among scholars and practitioners. He has publi
 shed multiple peer-reviewed articles on topics such as business leadership
 \, labor unions\, strategic development\, and social change. He is passion
 ate about applying professional ethics and contributing to positive social
  impact through his work. He speaks fluent French and has a strong interes
 t in biblical education. He currently resides in Charlotte\, NC\, but had 
 spent many years in Orange County\, CA\, where he was very active in the P
 MI-OC Chapter.&nbsp\;If you would like to learn more about&nbsp\;Doc River
 s\, please visit his LinkedIn page.
 Agenda
 6:00 PM - Chapter Announcem
 ents6:20 PM - Breakout Room Networking6:30 PM - Speaker Presentation7:30 P
 M - Q &amp\; A and Raffle7:45 PM - Closing &amp\; Wrap-up8:00 PM - Adjourn
LOCATION:Virtual Event/Web Conference                                      
                 
DTSTART:20240320T010000Z
DTEND:20240320T030000Z
DTSTAMP:20231221T034455Z
ORGANIZER;CN=PMI California Inland Empire Chapter:MAILTO:info@pmicie.org
END:VEVENT
END:VCALENDAR