BEGIN:VCALENDAR
VERSION:2.0
PRODID:Events Booking
BEGIN:VEVENT
UID:69ea5f72d99c1
SUMMARY:Dr. Chris DiBella\, MBA\, PhD - Influencing Without Authority: Obta
 ining Results Through Trust and Respect (Live Online)
DESCRIPTION:
 Presentation Title
 Influencing Without Authority: Obtainin
 g Results Through Trust and Respect
 Presentation Speaker
 Dr. Chris DiB
 ella\, MBA\, PhD -&nbsp\; Instigator of Change\, Speaker\, &amp\; Author

  Presentation Abstract
 Chris DiBella believes the ability to influence w
 ithout authority is an essential skill needed by project managers and othe
 r professionals in today’s workplace. This is especially true when deali
 ng with change management. It requires expertise\, resources\, fostering r
 elationships\, and the right attitude. In this interactive presentation\, 
 he will review various methods of developing the skills necessary to influ
 ence change in an ever-changing environment. Learning Outcomes include:
 
 • Implementing enterprise-wide change• Influencing personal team membe
 r performance• Developing employee engagement skills• Improving leader
 /employee engagement using interpersonal skills
 Speaker Bio
 Chris DiBe
 lla is a passionate Leadership and development Coach and a driving force f
 or process improvement and helps companies create organizational change fr
 om an influential and behavioral perspective. He has an MBA in Project Man
 agement and a&nbsp\;Ph.D. in Organizational Leadership. He&nbsp\;also beli
 eves in teaching aspiring leaders the value of influential leadership prac
 tices while assessing their efficiencies using project management methodol
 ogies to help streamline processes and maximize their potential.
 Chris i
 s the Founder and President of the Institute of Leadership Coaching and De
 velopment\, which provides leadership training programs and coaching certi
 fications and focuses on aspects related to behavioral\, influential\, and
  strengths-based leadership styles.&nbsp\;If you would like to learn more 
 about Chris\, please visit his LinkedIn page.
 There will also be a raffl
 e for a free one-hour coaching session with Chris.
 Agenda
 6:00 PM - Ch
 apter Announcements6:20 PM - Breakout Room Networking6:30 PM - Speaker Pre
 sentation7:30 PM - Q &amp\; A and Raffle7:45 PM - Closing &amp\; Wrap-up8:
 00 PM - Adjourn
LOCATION:Virtual Event/Web Conference                                      
                 
DTSTART:20240417T010000Z
DTEND:20240417T030000Z
DTSTAMP:20231221T034455Z
ORGANIZER;CN=PMI California Inland Empire Chapter:MAILTO:info@pmicie.org
END:VEVENT
END:VCALENDAR