BEGIN:VCALENDAR
VERSION:2.0
PRODID:Events Booking
BEGIN:VEVENT
UID:69ea5f49c4987
SUMMARY:5 PDU Event! 04/27/24: Brand and Land: Improve Your Personal Market
 ability
DESCRIPTION:
 Brand &amp\; Land Returns to the Inland Empire
 Career Seri
 es: Brand and Land ChatGPT Workshop
 Workshop Facilitator
 John Signo
 
 Most of you have probably used the AI Tool ChatGPT at some point recently 
 but are probably not using it to help in your career professional developm
 ent. Do you know how to use ChatGPT to turbocharge your professional caree
 r? Answer the following questions:
 
 Do you know how to use this tool t
 o create a customizable job search strategy to increase your odds of landi
 ng the role you are seeking today?
 Do you know how to use ChatGPT to est
 ablish and enhance your resume and LinkedIn profile to increase your visib
 ility with recruiters?
 Do you know how to use ChatGPT in interviews to g
 et the job you’re seeking today?
 
 If the answer to any of these ques
 tions is “no” or even “I’m not sure\,” then you owe it to yourse
 lf to learn the fundamentals of ChatGPT to boost your career.
 The PMI Ca
 lifornia Inland Empire Chapter (www.pmicie.org) is pleased to present the 
 Brand and Land Chat GPT Workshop conducted by Signofied Services. This wor
 kshop is intended to provide participants with insights on how to use Chat
 GPT to turbocharge their professional careers. This is a 1-Day 5-hour Satu
 rday event that offers the following Learning Outcomes:&nbsp\;
 
 Resume
  Writing Skills
 LinkedIn Profile Optimization
 Using AI Tools - ChatGPT
 
 
 &nbsp\;For more information\, check out the Brand and Land video!
 
 Speaker Bio
 John Signo is currently a Senior Project Manager at Bank of 
 America\, managing cybersecurity projects with the goal of reducing identi
 fied risks while protecting the enterprise and its clients. He has previou
 s work experience at J Walter Thompson\, IBM\, and BNSF Railway\, providin
 g Project Management and Systems Engineering work.
 John has been an acti
 ve member of PMI Dallas and PMI Dallas Toastmasters since 2014 and 2015\, 
 respectively. He advocates for PMI certifications and currently holds the 
 PMI PMP and PMI-ACP certifications. In his spare time\, he provides sessio
 ns on \"Branding to Land Your Next Gig\" using LinkedIn\, resumes\, and an
  online Applicant Tracking System (ATS) tool. In addition\, he continues t
 o mentor PMP and PMI-ACP aspirants as they prepare for their certification
  exams.
LOCATION:Virtual Event/Web Conference                                      
                 
DTSTART:20240427T150000Z
DTEND:20240427T200000Z
DTSTAMP:20260423T180457Z
ORGANIZER;CN=PMI California Inland Empire Chapter:MAILTO:info@pmicie.org
END:VEVENT
END:VCALENDAR