BEGIN:VCALENDAR
VERSION:2.0
PRODID:Events Booking
BEGIN:VEVENT
UID:69eb9baf0b9b8
SUMMARY:Tuesday\, 08/19/25 | PMICIE Virtual Monthly Event | 2.0 Power Skill
 s PDUs | Tyler Norman |  Managing Your Career Path Like a Project
DESCRIPTION:&nbsp\;
 Presentation Title&nbsp\;
 Managing Your Career Path
  Like a Project
 Presentation Speaker
 Tyler Norman\, MBA\, PfMP\, PgMP\
 , PMP
 Presentation Abstract
 Will you choose your path\, or will your p
 ath be selected for you? In today's era of rapid innovation\, it's more im
 portant than ever to take an active role in steering the course of your ca
 reer. However\, common career guidance is often dated\, generalized\, and 
 challenging to apply. In this session\, Tyler Norman will discuss how to a
 pply best practices of project management to your career planning process\
 , identifying and obtaining your dream role.. Learning Objectives include:
 
 
 Defining your actual dream role for the future
 Recognizing what it
  will take to earn that role
 Performing a personal career audit
 Analyz
 ing the gap between your current and future state
 Building a roadmap to 
 your future state
 
 Speaker Bio
 Tyler Norman is a global thought lead
 er in project management\, having delivered messages on career growth and 
 personal brand development to over 30\,000 global professionals\, includin
 g presentations to PMI Global and many PMI chapters. He is the Director of
  Strategic Supply Chain Programs at Scholastic\, Inc.\, and has over 15 ye
 ars of experience driving value across time zones and cultures. He is know
 n for delivering actionable insights with humor and relatability\, and max
 imizing audience entertainment\, value\, and learning retention. To learn 
 more about Tyler\, please check out his&nbsp\;LinkedIn Profile.
 Agenda

  6:05 PM - Breakout Room Networking6:25 PM -&nbsp\;Chapter Announcements6:
 30 PM - Speaker Presentation7:30 PM - Q &amp\; A7:45 PM - Closing &amp\; W
 rap-up8:00 PM - Adjourn
 Price
 $15.00 for PMICIE Chapter Members$20.00 
 for Non-Members*
 *Note: $5.00 off for other SoCal PMI Chapter members. C
 ontact dir.programs@pmicie.org&nbsp\;for a discount code.
 PDUs
 2.0&nbs
 p\;Power Skills
 We hope to see you there!
LOCATION:Virtual Event/Web Conference                                      
                 
DTSTART:20250820T010000Z
DTEND:20250820T030000Z
DTSTAMP:20231221T034455Z
ORGANIZER;CN=PMI California Inland Empire Chapter:MAILTO:info@pmicie.org
END:VEVENT
END:VCALENDAR