BEGIN:VCALENDAR
VERSION:2.0
PRODID:Events Booking
BEGIN:VEVENT
UID:69eb83ff9490c
SUMMARY:Tuesday\, 09/16/25 | PMICIE Virtual Monthly Event | 2.0 Ways of Wor
 king PDUs | Bryan Campbell | Project Management Blending Using Hybrid Best
  Practices and Principles 
DESCRIPTION:
 Presentation Title&nbsp\;
 Project Management Blending Usin
 g Hybrid Best Practices aand Principles
 Presentation Speaker
 Bryan Cam
 pbell\,&nbsp\;&nbsp\;PMP &amp\; SAFe SPC
 Presentation Abstract
 Hybrid 
 Project Management is a brilliant evolution in the PM toolkit\, especially
  when navigating today's fast-paced\, ever-shifting project landscapes. On
 e-size-fits-all development approaches don't exist anymore because you hav
 e to 'tailor' each of your development approaches to your specific 'projec
 t' and 'product' scenarios. This is where Hybrid Project Management Comes.
 &nbsp\;In this presentation\, Bryan Campbell will explain in detail what i
 s meant by Hybrid Project Management\, its pros and cons\, and how various
  project management and product development best practices and principles 
 can be blended to achieve success in today's ever-changing and complex glo
 bal business environment. Learning Outcomes include answers to the followi
 ng questions:
 
 What is meant by Hybrid Project Management?
 What are 
 the benefits of Hybrid Project Management?
 What challenges and complexit
 ies may be encountered in Hybrid Project Management?
 How can Hybrid Proj
 ect Management be successfully implemented?
 
 Speaker Bio
 Bryan Campb
 ell is an experienced Agile Program and Project Manager with extensive exp
 erience leveraging Agile and traditional project management techniques to 
 deliver successful business outcomes. He holds an MBA and multiple certifi
 cations\, including&nbsp\;SPC6\, PgMP\, PMP\, and PMI-ACP. He is passionat
 e about helping others navigate their Agile and Hybrid journeys with clari
 ty and confidence. He has decades of hands-on experience across various in
 dustries\, helping them achieve first-to-market status\, reduce rework\, a
 nd eliminate waste in critical processes. He was also a contributor to the
  PMBOK Guide 7th Edition as a subject matter expert. To learn more about B
 ryan\, please check out his&nbsp\;LinkedIn Profile.
 Agenda
 6:05 PM - B
 reakout Room Networking6:25 PM -&nbsp\;Chapter Announcements6:30 PM - Spea
 ker Presentation7:30 PM - Q &amp\; A and Raffle7:45 PM - Closing &amp\; Wr
 ap-up8:00 PM - Adjourn
 Price
 $15.00 for PMICIE Chapter Members$20.00 f
 or Non-Members*
 *Note: $5.00 off for other SoCal PMI Chapter members. Co
 ntact dir.programs@pmicie.org&nbsp\;for a discount code.
 PDUs
 2.0 Ways
  of Working
 We hope to see you there!
LOCATION:Virtual Event/Web Conference                                      
                 
DTSTART:20250917T010000Z
DTEND:20250917T030000Z
DTSTAMP:20231221T034455Z
ORGANIZER;CN=PMI California Inland Empire Chapter:MAILTO:info@pmicie.org
END:VEVENT
END:VCALENDAR