BEGIN:VCALENDAR
VERSION:2.0
PRODID:Events Booking
BEGIN:VEVENT
UID:69eb842dbddc0
SUMMARY:2025-10-09 Thursday | Free Special Discussion Panel Virtual Event |
  REACH: Translating Military Precision into Civilian Success| Sponsored by
  Project Success Academy
DESCRIPTION:
 &nbsp\;
 FREE SPECIAL DISCUSSION PANEL VIRTUAL EVENT'REACH:
  Translating Military Precision into Civilian Success'SPONSORED BY PROJECT
  SUCCESS ACADEMYFeaturing Professor Kevin W. ReillyPMICIE Chapter Voluntee
 r and U.S. Navy Veteran
 Discussion Panel Abstract:
 How do veterans tak
 e the discipline\, accountability\, and precision of military service and 
 translate them into thriving civilian careers? This panel explores that qu
 estion through the lens of REACH (Risk\, Engagement\, Alignment\, Communic
 ation\, and Habits).
 Over the course of 60 minutes\, our panelists will 
 share real-life stories of transition\, highlighting how battlefield-teste
 d skills can bridge cultural gaps in the workplace and enhance team perfor
 mance.
 From reframing risk-taking to modeling engagement\, from aligning
  teams around a clear mission to communicating with clarity and building h
 igh-performance habits\, this conversation will offer both inspiration and
  practical strategies.
 Whether you’re a veteran navigating your own tr
 ansition\, an employer seeking to harness veteran talent\, or a leader loo
 king for proven ways to strengthen accountability and ownership in your or
 ganization\, this session will leave you with actionable insights to REACH
  higher in leadership and success.
 Bring your questions. Share your voic
 e. Be part of the mission.
 Discussion Panelists
 Professor Kevin W. Rei
 lly\, PMP\, PMI-ACP\, CSM\, CSPO\, CSPCheryl Barnett\, PMPRussell Parker\,
  PMP\,&nbsp\;PMI-ACP\, PMI-RMPTanya Boyd\, PMP\,&nbsp\;PMI-ACPBrandon Carp
 enter\, PMP\, PMI-ACPShane Dixon\, PMPAnh Taylor-Garcia\, PMI-ACPGregg D. 
 Richie\, PMPRussell Parker\, PMP\, PMI-ACP\, PMI-RMPCheryl Barnett\, PMPCh
 ris Wickman
 To learn more about Project Success Academy\, please visit t
 heir website and LinkedIn page.
 Price
 Free
 PDUs
 None
 Questions? 
 Send an email to dir.programs@pmicie.org.
 We hope to see you there!
LOCATION:Virtual Event/Web Conference                                      
                 
DTSTART:20251009T163000Z
DTEND:20251009T173000Z
DTSTAMP:20260424T145437Z
ORGANIZER;CN=PMI California Inland Empire Chapter:MAILTO:info@pmicie.org
END:VEVENT
END:VCALENDAR